BEGIN:VCALENDAR
VERSION:2.0
PRODID:-//The Norma Jean Mclachlan NFP, Inc. - ECPv6.15.20//NONSGML v1.0//EN
CALSCALE:GREGORIAN
METHOD:PUBLISH
X-WR-CALNAME:The Norma Jean Mclachlan NFP, Inc.
X-ORIGINAL-URL:https://njmfoundation.org
X-WR-CALDESC:Events for The Norma Jean Mclachlan NFP, Inc.
REFRESH-INTERVAL;VALUE=DURATION:PT1H
X-Robots-Tag:noindex
X-PUBLISHED-TTL:PT1H
BEGIN:VTIMEZONE
TZID:America/Chicago
BEGIN:DAYLIGHT
TZOFFSETFROM:-0600
TZOFFSETTO:-0500
TZNAME:CDT
DTSTART:20220313T080000
END:DAYLIGHT
BEGIN:STANDARD
TZOFFSETFROM:-0500
TZOFFSETTO:-0600
TZNAME:CST
DTSTART:20221106T070000
END:STANDARD
BEGIN:DAYLIGHT
TZOFFSETFROM:-0600
TZOFFSETTO:-0500
TZNAME:CDT
DTSTART:20230312T080000
END:DAYLIGHT
BEGIN:STANDARD
TZOFFSETFROM:-0500
TZOFFSETTO:-0600
TZNAME:CST
DTSTART:20231105T070000
END:STANDARD
BEGIN:DAYLIGHT
TZOFFSETFROM:-0600
TZOFFSETTO:-0500
TZNAME:CDT
DTSTART:20240310T080000
END:DAYLIGHT
BEGIN:STANDARD
TZOFFSETFROM:-0500
TZOFFSETTO:-0600
TZNAME:CST
DTSTART:20241103T070000
END:STANDARD
END:VTIMEZONE
BEGIN:VEVENT
DTSTART;TZID=America/Chicago:20230309T200000
DTEND;TZID=America/Chicago:20230309T220000
DTSTAMP:20260420T175359
CREATED:20230124T005605Z
LAST-MODIFIED:20240406T183730Z
UID:2660-1678392000-1678399200@njmfoundation.org
SUMMARY:Quarterly Meeting - March 9th
DESCRIPTION:Agenda\n\nDonations\nFundraising\nEvent updates\nPeople Served
URL:https://njmfoundation.org/event/quarterly-meeting-march-9th/
LOCATION:Rollins Center\, Kingston 13\, Kingston\, Jamaica
CATEGORIES:Board Meetings
ATTACH;FMTTYPE=image/svg+xml:https://njmfoundation.org/wp-content/uploads/2019/09/NJMAsset-1.svg
ORGANIZER;CN="Norma McLachlan":MAILTO:info@njmfoundation.org
END:VEVENT
END:VCALENDAR