BEGIN:VCALENDAR
VERSION:2.0
PRODID:-//The Norma Jean Mclachlan NFP, Inc. - ECPv6.15.20//NONSGML v1.0//EN
CALSCALE:GREGORIAN
METHOD:PUBLISH
X-WR-CALNAME:The Norma Jean Mclachlan NFP, Inc.
X-ORIGINAL-URL:https://njmfoundation.org
X-WR-CALDESC:Events for The Norma Jean Mclachlan NFP, Inc.
REFRESH-INTERVAL;VALUE=DURATION:PT1H
X-Robots-Tag:noindex
X-PUBLISHED-TTL:PT1H
BEGIN:VTIMEZONE
TZID:America/Chicago
BEGIN:DAYLIGHT
TZOFFSETFROM:-0600
TZOFFSETTO:-0500
TZNAME:CDT
DTSTART:20180311T080000
END:DAYLIGHT
BEGIN:STANDARD
TZOFFSETFROM:-0500
TZOFFSETTO:-0600
TZNAME:CST
DTSTART:20181104T070000
END:STANDARD
BEGIN:DAYLIGHT
TZOFFSETFROM:-0600
TZOFFSETTO:-0500
TZNAME:CDT
DTSTART:20190310T080000
END:DAYLIGHT
BEGIN:STANDARD
TZOFFSETFROM:-0500
TZOFFSETTO:-0600
TZNAME:CST
DTSTART:20191103T070000
END:STANDARD
BEGIN:DAYLIGHT
TZOFFSETFROM:-0600
TZOFFSETTO:-0500
TZNAME:CDT
DTSTART:20200308T080000
END:DAYLIGHT
BEGIN:STANDARD
TZOFFSETFROM:-0500
TZOFFSETTO:-0600
TZNAME:CST
DTSTART:20201101T070000
END:STANDARD
END:VTIMEZONE
BEGIN:VEVENT
DTSTART;VALUE=DATE:20191201
DTEND;VALUE=DATE:20191202
DTSTAMP:20260423T011916
CREATED:20191024T144548Z
LAST-MODIFIED:20240406T182443Z
UID:723-1575158400-1575244799@njmfoundation.org
SUMMARY:Senior Dinner
DESCRIPTION:We rent two buses annually to pick up seniors and take them to the Hope Gardens in Kingston\, Jamaica for a free catered dinner.
URL:https://njmfoundation.org/event/senior-dinner/
LOCATION:Rollins Center\, Kingston 13\, Kingston\, Jamaica
CATEGORIES:Upcoming Events
END:VEVENT
END:VCALENDAR